BEGIN:VCALENDAR
VERSION:2.0
PRODID:-//www.energizingentrepreneurs.org//NONSGML kigkonsult.se iCalcreato
 r 2.30.10//
CALSCALE:GREGORIAN
METHOD:PUBLISH
UID:65210fa0-7434-447f-a8a9-501adc5387fd
X-WR-CALDESC:The 2020 ESHIP Summit\, will be in a virtual format\, Sept. 15
 -16. Hosted by the Kauffman Foundation\, the ESHIP Summit is a convening t
 hat brings together entrepreneurial ecosystem builders — leaders connectin
 g communities to accelerate entrepreneurship. Don Macke and Bob Stowell wi
 ll present a case study on Ord\, Nebraska\, an entrepreneurial community. 
 e2 and NetWork Kansas will also be co-hosting a virtual booth!
X-WR-RELCALID:ae04eaebaece6b634b97e90447bff38c
X-WR-TIMEZONE:America/Chicago
BEGIN:VTIMEZONE
TZID:America/Chicago
BEGIN:STANDARD
TZNAME:CST
DTSTART:20191103T020000
TZOFFSETFROM:-0500
TZOFFSETTO:-0600
RDATE:20201101T020000
RDATE:20211107T020000
END:STANDARD
BEGIN:DAYLIGHT
TZNAME:CDT
DTSTART:20200308T020000
TZOFFSETFROM:-0600
TZOFFSETTO:-0500
RDATE:20210314T020000
RDATE:20220313T020000
END:DAYLIGHT
END:VTIMEZONE
BEGIN:VEVENT
UID:29d211ae-114d-4b25-a480-7161515a73ad
DTSTAMP:20260424T062649Z
DESCRIPTION:The 2020 ESHIP Summit\, will be in a virtual format\, Sept. 15-
 16. Hosted by the Kauffman Foundation\, the ESHIP Summit is a convening th
 at brings together entrepreneurial ecosystem builders — leaders connecting
  communities to accelerate entrepreneurship. Don Macke and Bob Stowell wil
 l present a case study on Ord\, Nebraska\, an entrepreneurial community. e
 2 and NetWork Kansas will also be co-hosting a virtual booth!
DTSTART;TZID=America/Chicago:20200915T000000
DTEND;TZID=America/Chicago:20200916T235900
LOCATION:Kansas City
SUMMARY:New Dates! 2020 ESHIP Summit
END:VEVENT
END:VCALENDAR
