BEGIN:VCALENDAR
VERSION:2.0
PRODID:-//www.energizingentrepreneurs.org//NONSGML kigkonsult.se iCalcreato
 r 2.30.10//
CALSCALE:GREGORIAN
METHOD:PUBLISH
UID:5995dea3-eae8-46d5-88b5-b4b2997fd453
X-WR-CALDESC:Please visit the NetWork Kansas class schedule for topics offe
 red throughout the year.
X-WR-RELCALID:3a146e9246d7d226f68fbc1d916d9d8e
X-WR-TIMEZONE:America/Chicago
BEGIN:VTIMEZONE
TZID:America/Chicago
BEGIN:STANDARD
TZNAME:CST
DTSTART:20191103T020000
TZOFFSETFROM:-0500
TZOFFSETTO:-0600
RDATE:20201101T020000
END:STANDARD
BEGIN:DAYLIGHT
TZNAME:CDT
DTSTART:20190310T020000
TZOFFSETFROM:-0600
TZOFFSETTO:-0500
RDATE:20200308T020000
RDATE:20210314T020000
END:DAYLIGHT
END:VTIMEZONE
BEGIN:VEVENT
UID:ea4a8ac6-c451-4476-8926-cd68263cc00a
DTSTAMP:20260420T055255Z
DESCRIPTION:Please visit the NetWork Kansas class schedule for topics offer
 ed throughout the year.
DTSTART;TZID=America/Chicago:20191201T000000
DTEND;TZID=America/Chicago:20191201T235900
LOCATION:varies
SUMMARY:NetWork Kansas Classes
END:VEVENT
END:VCALENDAR
