BEGIN:VCALENDAR
VERSION:2.0
PRODID:-//www.energizingentrepreneurs.org//NONSGML kigkonsult.se iCalcreato
 r 2.30.10//
CALSCALE:GREGORIAN
METHOD:PUBLISH
UID:ec6b34ef-e9b7-4222-92a0-b79a4610ce2e
X-WR-CALDESC:Join monthly conversations around successes and learnings from
  diverse communities across the country.
X-WR-RELCALID:bcb12af612371c00b684c9fcce79a326
X-WR-TIMEZONE:America/New_York
BEGIN:VTIMEZONE
TZID:America/New_York
BEGIN:STANDARD
TZNAME:EST
DTSTART:20181104T020000
TZOFFSETFROM:-0400
TZOFFSETTO:-0500
RDATE:20191103T020000
RDATE:20201101T020000
END:STANDARD
BEGIN:DAYLIGHT
TZNAME:EDT
DTSTART:20190310T020000
TZOFFSETFROM:-0500
TZOFFSETTO:-0400
RDATE:20200308T020000
RDATE:20210314T020000
END:DAYLIGHT
END:VTIMEZONE
BEGIN:VEVENT
UID:122bb1e5-a8d3-4274-9de7-0401b73be5d4
DTSTAMP:20260421T075656Z
DESCRIPTION:Join monthly conversations around successes and learnings from 
 diverse communities across the country.
DTSTART;TZID=America/New_York:20191017T140000
DTEND;TZID=America/New_York:20191017T150000
LOCATION:
SUMMARY:Rural Rise Monthly WebConference
END:VEVENT
END:VCALENDAR
